BEGIN:VCALENDAR
VERSION:2.0
PRODID:-//North 42 Degrees - ECPv6.15.15//NONSGML v1.0//EN
CALSCALE:GREGORIAN
METHOD:PUBLISH
X-WR-CALNAME:North 42 Degrees
X-ORIGINAL-URL:https://north42degrees.com
X-WR-CALDESC:Events for North 42 Degrees
REFRESH-INTERVAL;VALUE=DURATION:PT1H
X-Robots-Tag:noindex
X-PUBLISHED-TTL:PT1H
BEGIN:VTIMEZONE
TZID:America/Toronto
BEGIN:DAYLIGHT
TZOFFSETFROM:-0500
TZOFFSETTO:-0400
TZNAME:EDT
DTSTART:20180311T070000
END:DAYLIGHT
BEGIN:STANDARD
TZOFFSETFROM:-0400
TZOFFSETTO:-0500
TZNAME:EST
DTSTART:20181104T060000
END:STANDARD
BEGIN:DAYLIGHT
TZOFFSETFROM:-0500
TZOFFSETTO:-0400
TZNAME:EDT
DTSTART:20190310T070000
END:DAYLIGHT
BEGIN:STANDARD
TZOFFSETFROM:-0400
TZOFFSETTO:-0500
TZNAME:EST
DTSTART:20191103T060000
END:STANDARD
BEGIN:DAYLIGHT
TZOFFSETFROM:-0500
TZOFFSETTO:-0400
TZNAME:EDT
DTSTART:20200308T070000
END:DAYLIGHT
BEGIN:STANDARD
TZOFFSETFROM:-0400
TZOFFSETTO:-0500
TZNAME:EST
DTSTART:20201101T060000
END:STANDARD
END:VTIMEZONE
BEGIN:VEVENT
DTSTART;TZID=America/Toronto:20190914T100000
DTEND;TZID=America/Toronto:20190914T130000
DTSTAMP:20260420T134422
CREATED:20190704T153059Z
LAST-MODIFIED:20190704T153131Z
UID:10000002-1568455200-1568466000@north42degrees.com
SUMMARY:Hike 42 Degrees
DESCRIPTION:“Autumn is a second spring when every leaf is a flower.” \nWe look forward to a beautiful display of colours in our secret oasis for you\, our customers to enjoy.  Come experience our 40 acre Carolinian forest on a nature hike led by our own\, Martin Gorski\, owner\, microbiologist and farmer. You’ll discover native plant species\, do some foraging\, learn about the environment and the origins of food from farm to table and perhaps even spot some migrating birds.   Forest bathing\, wine tasting and an outdoor camp style hot gourmet lunch\, prepared by our Bistro 42 Culinary Team top off the day! \nSpots are limited\, so book today to experience this unique event! \n$42.00 per person +HST.
URL:https://north42degrees.com/event/hike-42-degrees/
LOCATION:North 42 Degrees\, 130 County Road 50 E\, Colchester\, Ontario\, N0R 1G0\, Canada
CATEGORIES:Events
END:VEVENT
BEGIN:VEVENT
DTSTART;TZID=America/Toronto:20190921T100000
DTEND;TZID=America/Toronto:20190921T130000
DTSTAMP:20260420T134422
CREATED:20190704T153207Z
LAST-MODIFIED:20190704T153207Z
UID:10000005-1569060000-1569070800@north42degrees.com
SUMMARY:Hike 42 Degrees
DESCRIPTION:“Autumn is a second spring when every leaf is a flower.” \nWe look forward to a beautiful display of colours in our secret oasis for you\, our customers to enjoy.  Come experience our 40 acre Carolinian forest on a nature hike led by our own\, Martin Gorski\, owner\, microbiologist and farmer. You’ll discover native plant species\, do some foraging\, learn about the environment and the origins of food from farm to table and perhaps even spot some migrating birds.   Forest bathing\, wine tasting and an outdoor camp style hot gourmet lunch\, prepared by our Bistro 42 Culinary Team top off the day! \nSpots are limited\, so book today to experience this unique event! \n$42.00 per person +HST.
URL:https://north42degrees.com/event/hike-42-degrees-2/
LOCATION:North 42 Degrees\, 130 County Road 50 E\, Colchester\, Ontario\, N0R 1G0\, Canada
CATEGORIES:Events
END:VEVENT
BEGIN:VEVENT
DTSTART;TZID=America/Toronto:20190928T100000
DTEND;TZID=America/Toronto:20190928T130000
DTSTAMP:20260420T134422
CREATED:20190704T153225Z
LAST-MODIFIED:20190704T153427Z
UID:10000008-1569664800-1569675600@north42degrees.com
SUMMARY:Hike 42 Degrees
DESCRIPTION:“Autumn is a second spring when every leaf is a flower.” \nWe look forward to a beautiful display of colours in our secret oasis for you\, our customers to enjoy.  Come experience our 40 acre Carolinian forest on a nature hike led by our own\, Martin Gorski\, owner\, microbiologist and farmer. You’ll discover native plant species\, do some foraging\, learn about the environment and the origins of food from farm to table and perhaps even spot some migrating birds.   Forest bathing\, wine tasting and an outdoor camp style hot gourmet lunch\, prepared by our Bistro 42 Culinary Team top off the day! \nSpots are limited\, so book today to experience this unique event! \n$42.00 per person +HST.
URL:https://north42degrees.com/event/hike-42-degrees-3/
LOCATION:North 42 Degrees\, 130 County Road 50 E\, Colchester\, Ontario\, N0R 1G0\, Canada
CATEGORIES:Events
END:VEVENT
END:VCALENDAR