BEGIN:VCALENDAR
VERSION:2.0
PRODID:-//North 42 Degrees - ECPv6.15.15//NONSGML v1.0//EN
CALSCALE:GREGORIAN
METHOD:PUBLISH
X-ORIGINAL-URL:https://north42degrees.com
X-WR-CALDESC:Events for North 42 Degrees
REFRESH-INTERVAL;VALUE=DURATION:PT1H
X-Robots-Tag:noindex
X-PUBLISHED-TTL:PT1H
BEGIN:VTIMEZONE
TZID:America/Toronto
BEGIN:DAYLIGHT
TZOFFSETFROM:-0500
TZOFFSETTO:-0400
TZNAME:EDT
DTSTART:20230312T070000
END:DAYLIGHT
BEGIN:STANDARD
TZOFFSETFROM:-0400
TZOFFSETTO:-0500
TZNAME:EST
DTSTART:20231105T060000
END:STANDARD
BEGIN:DAYLIGHT
TZOFFSETFROM:-0500
TZOFFSETTO:-0400
TZNAME:EDT
DTSTART:20240310T070000
END:DAYLIGHT
BEGIN:STANDARD
TZOFFSETFROM:-0400
TZOFFSETTO:-0500
TZNAME:EST
DTSTART:20241103T060000
END:STANDARD
BEGIN:DAYLIGHT
TZOFFSETFROM:-0500
TZOFFSETTO:-0400
TZNAME:EDT
DTSTART:20250309T070000
END:DAYLIGHT
BEGIN:STANDARD
TZOFFSETFROM:-0400
TZOFFSETTO:-0500
TZNAME:EST
DTSTART:20251102T060000
END:STANDARD
END:VTIMEZONE
BEGIN:VEVENT
DTSTART;TZID=America/Toronto:20240209T170000
DTEND;TZID=America/Toronto:20240217T210000
DTSTAMP:20260419T215738
CREATED:20240206T005730Z
LAST-MODIFIED:20240206T225808Z
UID:10000027-1707498000-1708203600@north42degrees.com
SUMMARY:Celebrate Valentine's Day at North 42
DESCRIPTION:Valentine’s Day Menu\nNorth 42 Degrees\nFOOD IS THE LANGUAGE OF LOVE! \nChef Ken has been creating in the kitchen and for Valentine’s day is offering 2 delicious romantic dinner features that incorporate the flavours and colours of romance. \nFor those who love local we’re offering Trimble Farms Cattle Company (located right here in Essex County) 21 day dry aged Beef Tenderloin\, a local Canadian AAA beef with an “elixir of love” chocolate demi-glace\, pink beet infused potato pave and honey roasted baby carrots for that hint of sweetness. \n$52 \nTrimble farms beef\nFor our fish lovers we have a Grilled Lemon Herb Salmon with Greens. A sustainably farmed salmon kissed with lemon and fresh herbs and grilled to perfection. It’s Ocean Wise approved.  Served on a bed of bright greens lightly tossed with our house made sous reserve vinaigrette\, and topped with delicious walnuts\, local apple\, chevre\, crushed hazelnuts\, luscious raspberries and balsamic roasted pear that will light up your taste buds. \n$38 \nwine and dine the one you love\nOur regular dinner menu and these features will be offered on Friday February 9th\, Saturday February 10th\, Valentine’s Day\, February 14th and February 15\, 16 and 17th.  Come cozy up by our fireplace\, grab some wine and celebrate the one’s you love! \nBook your table for Valentine’s Day today by calling 519 738-6111. \nWe’d love to see your smiling faces! \n 
URL:https://north42degrees.com/event/valentines-day-menu/
LOCATION:Ontario
CATEGORIES:Events
ATTACH;FMTTYPE=image/png:https://north42degrees.com/wp-content/uploads/2024/02/trimble-farms-beef-tenderloin.png
END:VEVENT
BEGIN:VEVENT
DTSTART;TZID=America/Toronto:20240210T120000
DTEND;TZID=America/Toronto:20240213T170000
DTSTAMP:20260419T215738
CREATED:20240206T012525Z
LAST-MODIFIED:20240206T012738Z
UID:10000028-1707566400-1707843600@north42degrees.com
SUMMARY:Preorder your NORTH 42 PĄCZKI
DESCRIPTION:OOOH Pączki….. \nNow someone is doing a Happy Dance! Can you guess who?  Fat Tuesday is around the corner and this tradition is alive and well at North 42 and why wouldn’t it be both of our owners\, Martin aand Suzanne are Polish. \n  \nPaczki\nAlthough\, our Pączki making class is sold out you can still enjoy the finished product. Our culinary team is taking preorders for your favourites. Using Suzanne’s family’s traditional recipe using loads of eggs and a dash of rum this is NOT your standard jelly donut! It’s rich\, fluffy and melts in your mouth and they freeze well so you can enjoy them all month long. Most importantly these lovelies have passed the Martin taste test. \nMardi Gras celebrations need Paczki\nSo\, choose your filling from traditional prune\, cherry\, raspberry\, or custard. Call us at 519 738-6111 to place your order and pick up date and time between noon- 6pm on February 9th to 13th. Finall\,y come in at the designated time\, grab the perfect pairing – Sparkling Riesling or Winter White wine and indulge your taste buds! \nAnd they are perfect for celebrating Valentine’s day\, FAT Tuesday and Mardi Gras… no we’re not making this up! Did you know that a singular Pączek means a flower bud.   See\,  now that’s romantic…. \nCall 519 738-6111 to place your order \n$18 for a half dozen or $35 for a dozen.
URL:https://north42degrees.com/event/preorder-your-north-42-paczki/
LOCATION:North 42 Degrees\, 130 County Road 50 E\, Colchester\, Ontario\, N0R 1G0\, Canada
CATEGORIES:Events
ATTACH;FMTTYPE=image/jpeg:https://north42degrees.com/wp-content/uploads/2024/02/87361737_3041154029250607_1340990267003502592_n.jpg
END:VEVENT
BEGIN:VEVENT
DTSTART;TZID=America/Toronto:20240214T190000
DTEND;TZID=America/Toronto:20240214T203000
DTSTAMP:20260419T215738
CREATED:20240206T002846Z
LAST-MODIFIED:20240206T002919Z
UID:10000026-1707937200-1707942600@north42degrees.com
SUMMARY:Valentine's Day Charcuterie Event
DESCRIPTION:Valentine’s Day Charcuterie and Wine! \nValentines day Charcuterie event\nLove is in the air and on February 14th from 7-8:30 pm for we’re taking you on an intimate and delectable evening with our friends from That Cheese Place. You’ll be treated to a carefully curated selection of the finest charcuterie and artisanal cheeses\, expertly paired with our North 42 wines and more. \nTickets are $125 per couple and includes: 1 board (as a meal to share) 2 tasting flights and a chance to win a Spa Treatment for two courtesy of Refresh Day Spa. \nWhether you’re celebrating the love of your life\, your BFF’s or are simply a foodie\, (DYK they have over 100 artisanal cheeses?) come out and enjoy this Valentine’s Day in the ultimate romantic and cozy ambience of North 42 Degrees Estate Winery. \nBook your table today and get ready to savour an unforgettable Valentine’s evening together!
URL:https://north42degrees.com/event/valentines-day-charcuterie-event/
LOCATION:Ontario
CATEGORIES:Events
ATTACH;FMTTYPE=image/png:https://north42degrees.com/wp-content/uploads/2024/02/charcuterie-1.png
END:VEVENT
END:VCALENDAR