BEGIN:VCALENDAR
VERSION:2.0
PRODID:-//North 42 Degrees - ECPv6.15.15//NONSGML v1.0//EN
CALSCALE:GREGORIAN
METHOD:PUBLISH
X-WR-CALNAME:North 42 Degrees
X-ORIGINAL-URL:https://north42degrees.com
X-WR-CALDESC:Events for North 42 Degrees
REFRESH-INTERVAL;VALUE=DURATION:PT1H
X-Robots-Tag:noindex
X-PUBLISHED-TTL:PT1H
BEGIN:VTIMEZONE
TZID:America/Toronto
BEGIN:DAYLIGHT
TZOFFSETFROM:-0500
TZOFFSETTO:-0400
TZNAME:EDT
DTSTART:20230312T070000
END:DAYLIGHT
BEGIN:STANDARD
TZOFFSETFROM:-0400
TZOFFSETTO:-0500
TZNAME:EST
DTSTART:20231105T060000
END:STANDARD
BEGIN:DAYLIGHT
TZOFFSETFROM:-0500
TZOFFSETTO:-0400
TZNAME:EDT
DTSTART:20240310T070000
END:DAYLIGHT
BEGIN:STANDARD
TZOFFSETFROM:-0400
TZOFFSETTO:-0500
TZNAME:EST
DTSTART:20241103T060000
END:STANDARD
BEGIN:DAYLIGHT
TZOFFSETFROM:-0500
TZOFFSETTO:-0400
TZNAME:EDT
DTSTART:20250309T070000
END:DAYLIGHT
BEGIN:STANDARD
TZOFFSETFROM:-0400
TZOFFSETTO:-0500
TZNAME:EST
DTSTART:20251102T060000
END:STANDARD
END:VTIMEZONE
BEGIN:VEVENT
DTSTART;TZID=America/Toronto:20240512T110000
DTEND;TZID=America/Toronto:20240512T160000
DTSTAMP:20260422T113700
CREATED:20240502T214036Z
LAST-MODIFIED:20240502T214036Z
UID:10000007-1715511600-1715529600@north42degrees.com
SUMMARY:Mother's Day Brunch
DESCRIPTION:Celebrate Mother’s Day at North 42 Degrees Estate Winery with Our Exclusive Brunch Menu!\n\n\nExpress your gratitude to the mothers in your life by treating them to a day filled with a meal prepared with love\, fine wines\, and delightful surroundings. Choose from a selection of savory and sweet options from our Special brunch menu\, or explore something new from our regular spring lunch menu. Spoil your mother with a day full of love\, happiness\, and exceptional dining at North 42!  Be sure to sent her some extra love with a bottle of our award winning wines or products from Serenity Lavender Farm.\n\nCome raise a glass to all the mothers and join us this Mother’s Day. May 12th by calling for your table today 519 738-6111.\n\n\nMothers Day Brunch Menu
URL:https://north42degrees.com/event/mothers-day-brunch/
LOCATION:Ontario
CATEGORIES:Events
ATTACH;FMTTYPE=image/png:https://north42degrees.com/wp-content/uploads/2024/05/Blue-Yellow-Fun-Illustrative-Why-Should-You-Use-a-Travel-Agent-Instagram-Post.png
END:VEVENT
END:VCALENDAR