BEGIN:VCALENDAR
VERSION:2.0
PRODID:-//North 42 Degrees - ECPv6.15.15//NONSGML v1.0//EN
CALSCALE:GREGORIAN
METHOD:PUBLISH
X-ORIGINAL-URL:https://north42degrees.com
X-WR-CALDESC:Events for North 42 Degrees
REFRESH-INTERVAL;VALUE=DURATION:PT1H
X-Robots-Tag:noindex
X-PUBLISHED-TTL:PT1H
BEGIN:VTIMEZONE
TZID:America/Toronto
BEGIN:DAYLIGHT
TZOFFSETFROM:-0500
TZOFFSETTO:-0400
TZNAME:EDT
DTSTART:20240310T070000
END:DAYLIGHT
BEGIN:STANDARD
TZOFFSETFROM:-0400
TZOFFSETTO:-0500
TZNAME:EST
DTSTART:20241103T060000
END:STANDARD
BEGIN:DAYLIGHT
TZOFFSETFROM:-0500
TZOFFSETTO:-0400
TZNAME:EDT
DTSTART:20250309T070000
END:DAYLIGHT
BEGIN:STANDARD
TZOFFSETFROM:-0400
TZOFFSETTO:-0500
TZNAME:EST
DTSTART:20251102T060000
END:STANDARD
BEGIN:DAYLIGHT
TZOFFSETFROM:-0500
TZOFFSETTO:-0400
TZNAME:EDT
DTSTART:20260308T070000
END:DAYLIGHT
BEGIN:STANDARD
TZOFFSETFROM:-0400
TZOFFSETTO:-0500
TZNAME:EST
DTSTART:20261101T060000
END:STANDARD
END:VTIMEZONE
BEGIN:VEVENT
DTSTART;TZID=America/Toronto:20250301T120000
DTEND;TZID=America/Toronto:20250301T160000
DTSTAMP:20260420T070907
CREATED:20250214T193338Z
LAST-MODIFIED:20250217T144526Z
UID:10000140-1740830400-1740844800@north42degrees.com
SUMMARY:Chocolate & Mulled Wine - Oh My!
DESCRIPTION:S’mores\nSurprise\, surprise! March 3 is officially Mulled Wine Day—who knew? Not us until just now! But hey\, we’re all about the celebrations! So\, join us for some outdoor fun on Saturday March 1st and Sunday March 2nd from noon – 4 pm\, where you can snuggle up by a crackling fire\, indulge in some sweet chocolatey goodness\, and sip on that soul-warming mulled wine.  \n\n\n\n \n\n\nChocolate Fondue\, S’mores\, and Mulled Wine-oh my! A trio of gooey\, melty\, and cozy delights that will make your taste buds dance! Mark the date on your calendar and come on by!!! Admission is free.  Wine & food options are a la carte.  We just ask that you register your attendance on our Website under events…we don’t want to run out of wine😉😉😁 \n\n\n \n\n\nCheers to cozy vibes…\n\n\nChocolate Fondue
URL:https://north42degrees.com/event/chocolate-mulled-wine-oh-my/
LOCATION:North 42 Degrees\, 130 County Road 50 E\, Colchester\, Ontario\, N0R 1G0\, Canada
CATEGORIES:Events
ATTACH;FMTTYPE=image/png:https://north42degrees.com/wp-content/uploads/2025/02/mulled-wine-event-Presentation.png
END:VEVENT
BEGIN:VEVENT
DTSTART;TZID=America/Toronto:20250302T120000
DTEND;TZID=America/Toronto:20250302T160000
DTSTAMP:20260420T070907
CREATED:20250214T190545Z
LAST-MODIFIED:20250214T193553Z
UID:10000139-1740916800-1740931200@north42degrees.com
SUMMARY:Chocolate & Mulled Wine - Oh My!
DESCRIPTION:S’mores\nSurprise\, surprise! March 3 is officially Mulled Wine Day—who knew? Not us until just now! But hey\, we’re all about the celebrations! So\, join us for some outdoor fun on Saturday March 1st and Sunday March 2nd from noon – 4 pm\, where you can snuggle up by a crackling fire\, indulge in some sweet chocolatey goodness\, and sip on that soul-warming mulled wine.  \n\n\n\n \n\n\nChocolate Fondue\, S’mores\, and Mulled Wine-oh my! A trio of gooey\, melty\, and cozy delights that will make your taste buds dance! Mark the date on your calendar and come on by!!! Admission is free.  Wine & food options are a la carte.  We just ask that you register your attendance on our Website under events…we don’t want to run out of wine😉😉😁 \n\n\n \n\n\nCheers to cozy vibes…\n\n\nChocolate Fondue
URL:https://north42degrees.com/event/chocolate-and-mulledwine/
LOCATION:North 42 Degrees\, 130 County Road 50 E\, Colchester\, Ontario\, N0R 1G0\, Canada
CATEGORIES:Events
ATTACH;FMTTYPE=image/png:https://north42degrees.com/wp-content/uploads/2025/02/mulled-wine-event-Presentation.png
END:VEVENT
BEGIN:VEVENT
DTSTART;TZID=America/Toronto:20250302T140000
DTEND;TZID=America/Toronto:20250302T170000
DTSTAMP:20260420T070907
CREATED:20250131T205456Z
LAST-MODIFIED:20250131T205456Z
UID:10000051-1740924000-1740934800@north42degrees.com
SUMMARY:Board Game Sunday
DESCRIPTION:Join us for Board Game Sundays! A New event at North 42.\n\nSundays are the ultimate fundays at North 42 Degrees Estate Winery! Join us for an afternoon of good times at our Board Games Sunday! Grab your friends and swing by the winery on Sunday\, January 26th\, from 2-6 PM.\n\nWhether you’re a board game champion or just in it for the laughs\, this is your golden ticket to kick back\, sip on some award winning wines or local brews and munch on tasty bites while battling it out over your favorite games.\n\nWe’ll have a treasure trove of board games waiting for you\, or feel free to bring your own to share the fun!\n\n\n\n\n\nThe available board games so far are:\nTsuro\nSkipbo\nCode Names Duet\nCode Names\nJenga\nBananagrams\nScrabble\nUpwords\nClue\nCatan\nTicket to Ride\nMonopoly\nBackgammon\n\n\nOnce you’re set up and having fun be sure to ask what our recommended pairing is to match to mood of the game you’re playing.  Perhaps a Pinot noir to solve that murder or a sparkling as you clean up the Monopoly Board.  Here’s a link to the  to get you in the mood.  We also have an assortment of local craft beers and some fabulous coktails available for purchase adn Bistro 42 will be offering a select menu including charcuterie boards to munch on during game play.\n\nCheers to a fabulous Sunday! And we hope to see you soon!\n\n\nBoard Game Sunday
URL:https://north42degrees.com/event/board-game-sunday-3/2025-03-02/
LOCATION:North 42 Degrees\, 130 County Road 50 E\, Colchester\, Ontario\, N0R 1G0\, Canada
CATEGORIES:Events
ATTACH;FMTTYPE=image/jpeg:https://north42degrees.com/wp-content/uploads/2025/01/IMG_3243-scaled.jpg
END:VEVENT
BEGIN:VEVENT
DTSTART;TZID=America/Toronto:20250309T130000
DTEND;TZID=America/Toronto:20250309T153000
DTSTAMP:20260420T070907
CREATED:20250223T213720Z
LAST-MODIFIED:20250223T213812Z
UID:10000142-1741525200-1741534200@north42degrees.com
SUMMARY:Decoupage Art Class - Wine Bottle
DESCRIPTION:Wine bottle decoupage\nJoin us for a delightful decoupage class\, where we’ll take a simple wine bottle\, along with paper\, paint\, varnish and various decorative elements\, to transform it into a stunning work of art. This timeless art form still enchants artists\, crafters\, and hobbyists alike. We supply all the materials and guide you in creating your own standout piece\, perfect for use as a flower vase or candle holder. No experience necessary. \nDate: Sunday\, March 9th \nTime: 1-3:30 pm \nCost: $55 including a glass of wine \nLimited to 12 attendees
URL:https://north42degrees.com/event/decoupage-art-class/
LOCATION:North 42 Degrees\, 130 County Road 50 E\, Colchester\, Ontario\, N0R 1G0\, Canada
CATEGORIES:Events
ATTACH;FMTTYPE=image/png:https://north42degrees.com/wp-content/uploads/2025/02/Decoupage-wine-bottle-decor-class.png
END:VEVENT
BEGIN:VEVENT
DTSTART;TZID=America/Toronto:20250309T140000
DTEND;TZID=America/Toronto:20250309T170000
DTSTAMP:20260420T070907
CREATED:20250131T205456Z
LAST-MODIFIED:20250131T205456Z
UID:10000052-1741528800-1741539600@north42degrees.com
SUMMARY:Board Game Sunday
DESCRIPTION:Join us for Board Game Sundays! A New event at North 42.\n\nSundays are the ultimate fundays at North 42 Degrees Estate Winery! Join us for an afternoon of good times at our Board Games Sunday! Grab your friends and swing by the winery on Sunday\, January 26th\, from 2-6 PM.\n\nWhether you’re a board game champion or just in it for the laughs\, this is your golden ticket to kick back\, sip on some award winning wines or local brews and munch on tasty bites while battling it out over your favorite games.\n\nWe’ll have a treasure trove of board games waiting for you\, or feel free to bring your own to share the fun!\n\n\n\n\n\nThe available board games so far are:\nTsuro\nSkipbo\nCode Names Duet\nCode Names\nJenga\nBananagrams\nScrabble\nUpwords\nClue\nCatan\nTicket to Ride\nMonopoly\nBackgammon\n\n\nOnce you’re set up and having fun be sure to ask what our recommended pairing is to match to mood of the game you’re playing.  Perhaps a Pinot noir to solve that murder or a sparkling as you clean up the Monopoly Board.  Here’s a link to the  to get you in the mood.  We also have an assortment of local craft beers and some fabulous coktails available for purchase adn Bistro 42 will be offering a select menu including charcuterie boards to munch on during game play.\n\nCheers to a fabulous Sunday! And we hope to see you soon!\n\n\nBoard Game Sunday
URL:https://north42degrees.com/event/board-game-sunday-3/2025-03-09/
LOCATION:North 42 Degrees\, 130 County Road 50 E\, Colchester\, Ontario\, N0R 1G0\, Canada
CATEGORIES:Events
ATTACH;FMTTYPE=image/jpeg:https://north42degrees.com/wp-content/uploads/2025/01/IMG_3243-scaled.jpg
END:VEVENT
BEGIN:VEVENT
DTSTART;TZID=America/Toronto:20250311T180000
DTEND;TZID=America/Toronto:20250311T210000
DTSTAMP:20260420T070907
CREATED:20250210T204414Z
LAST-MODIFIED:20250304T151714Z
UID:10000138-1741716000-1741726800@north42degrees.com
SUMMARY:Irish Whiskey Tasting - Celebrating St Patty's Day
DESCRIPTION:Our tag line is “Purveyors of good times and fine wines\,” but let’s be real—wine on St. Patty’s Day? We see those puzzled expressions! So\, we’re flipping the script and raising a glass of Irish Whiskey instead!  \n\nWith the explosion of Irish distilleries from 4 to over 50 in the last few years and with St. Patrick’s Day on the horizon an exploration of Irish whiskies\, single malts to be precise\,  seemed appropriate. We’ve got a terrific line up of 6 single malt whiskies that aren’t typically found on the LCBO shelves.\n\nHere’s the line up:\n\nBushmills 12 year old\nKnappogue Castle 12 year old\nWriters Tears  Copper Pot\nTyrconnell\nGlendalough 7 year Mizunara Oak Finished\nWaterford Single Farm Origin Hook Head edition  1.1\n\n\n And the menu’s downright mouthwatering from traditional Soda bread and Colcannon to Honey whiskey roasted parsnips and Mussels with bacon\, onion\, cabbage and crème fraiche. And dessert… well who can resist a Bailey’s mousse with hazelnut whiskey brittle. And for your main… the culinary team has so many options- lamb\, beef\, pies\, stews… at this point we know it’s gonna be awesome!\n\n Tickets are just $80 per person. \nIf you’ve ever wanted to dive into whiskey production secrets and savour the unique flavor profiles of Ireland’s finest\, this is your golden ticket! Don’t miss out! \nSingle Malt Irish Whikey Tasting
URL:https://north42degrees.com/event/irish-whiskey-tasting-celebrating-st-pattys-day/
LOCATION:North 42 Degrees\, 130 County Road 50 E\, Colchester\, Ontario\, N0R 1G0\, Canada
CATEGORIES:Events
ATTACH;FMTTYPE=image/png:https://north42degrees.com/wp-content/uploads/2025/02/SOLD-OUT.png
END:VEVENT
BEGIN:VEVENT
DTSTART;TZID=America/Toronto:20250316T140000
DTEND;TZID=America/Toronto:20250316T170000
DTSTAMP:20260420T070907
CREATED:20250131T205456Z
LAST-MODIFIED:20250131T205456Z
UID:10000053-1742133600-1742144400@north42degrees.com
SUMMARY:Board Game Sunday
DESCRIPTION:Join us for Board Game Sundays! A New event at North 42.\n\nSundays are the ultimate fundays at North 42 Degrees Estate Winery! Join us for an afternoon of good times at our Board Games Sunday! Grab your friends and swing by the winery on Sunday\, January 26th\, from 2-6 PM.\n\nWhether you’re a board game champion or just in it for the laughs\, this is your golden ticket to kick back\, sip on some award winning wines or local brews and munch on tasty bites while battling it out over your favorite games.\n\nWe’ll have a treasure trove of board games waiting for you\, or feel free to bring your own to share the fun!\n\n\n\n\n\nThe available board games so far are:\nTsuro\nSkipbo\nCode Names Duet\nCode Names\nJenga\nBananagrams\nScrabble\nUpwords\nClue\nCatan\nTicket to Ride\nMonopoly\nBackgammon\n\n\nOnce you’re set up and having fun be sure to ask what our recommended pairing is to match to mood of the game you’re playing.  Perhaps a Pinot noir to solve that murder or a sparkling as you clean up the Monopoly Board.  Here’s a link to the  to get you in the mood.  We also have an assortment of local craft beers and some fabulous coktails available for purchase adn Bistro 42 will be offering a select menu including charcuterie boards to munch on during game play.\n\nCheers to a fabulous Sunday! And we hope to see you soon!\n\n\nBoard Game Sunday
URL:https://north42degrees.com/event/board-game-sunday-3/2025-03-16/
LOCATION:North 42 Degrees\, 130 County Road 50 E\, Colchester\, Ontario\, N0R 1G0\, Canada
CATEGORIES:Events
ATTACH;FMTTYPE=image/jpeg:https://north42degrees.com/wp-content/uploads/2025/01/IMG_3243-scaled.jpg
END:VEVENT
BEGIN:VEVENT
DTSTART;TZID=America/Toronto:20250323T140000
DTEND;TZID=America/Toronto:20250323T170000
DTSTAMP:20260420T070907
CREATED:20250131T205456Z
LAST-MODIFIED:20250131T205456Z
UID:10000054-1742738400-1742749200@north42degrees.com
SUMMARY:Board Game Sunday
DESCRIPTION:Join us for Board Game Sundays! A New event at North 42.\n\nSundays are the ultimate fundays at North 42 Degrees Estate Winery! Join us for an afternoon of good times at our Board Games Sunday! Grab your friends and swing by the winery on Sunday\, January 26th\, from 2-6 PM.\n\nWhether you’re a board game champion or just in it for the laughs\, this is your golden ticket to kick back\, sip on some award winning wines or local brews and munch on tasty bites while battling it out over your favorite games.\n\nWe’ll have a treasure trove of board games waiting for you\, or feel free to bring your own to share the fun!\n\n\n\n\n\nThe available board games so far are:\nTsuro\nSkipbo\nCode Names Duet\nCode Names\nJenga\nBananagrams\nScrabble\nUpwords\nClue\nCatan\nTicket to Ride\nMonopoly\nBackgammon\n\n\nOnce you’re set up and having fun be sure to ask what our recommended pairing is to match to mood of the game you’re playing.  Perhaps a Pinot noir to solve that murder or a sparkling as you clean up the Monopoly Board.  Here’s a link to the  to get you in the mood.  We also have an assortment of local craft beers and some fabulous coktails available for purchase adn Bistro 42 will be offering a select menu including charcuterie boards to munch on during game play.\n\nCheers to a fabulous Sunday! And we hope to see you soon!\n\n\nBoard Game Sunday
URL:https://north42degrees.com/event/board-game-sunday-3/2025-03-23/
LOCATION:North 42 Degrees\, 130 County Road 50 E\, Colchester\, Ontario\, N0R 1G0\, Canada
CATEGORIES:Events
ATTACH;FMTTYPE=image/jpeg:https://north42degrees.com/wp-content/uploads/2025/01/IMG_3243-scaled.jpg
END:VEVENT
BEGIN:VEVENT
DTSTART;TZID=America/Toronto:20250324T183000
DTEND;TZID=America/Toronto:20250324T210000
DTSTAMP:20260420T070907
CREATED:20250215T202251Z
LAST-MODIFIED:20250306T193655Z
UID:10000141-1742841000-1742850000@north42degrees.com
SUMMARY:Pierogi Making Workshop
DESCRIPTION:It’s Pierogi Making time again! \nMartin and Suzanne\, are lovingly sharing their Polish culture and tradition with the assistance of our culinary team in this fun\, hands on workshop. You’ll master the technique of pierogi making with step-by-step instruction from the dough to the final dumpling. \nLearn how to make 3 different fillings: potato & cheese\, Sauerkraut & mushroom\, and fruit\, as well as\, tricks and tips for making those little packets of love seal properly. Of course\, you’ll have a tasting of these delightful creations and take a sample package home. \nOur attendee’s have always been amazed at how tender and melt in your mouth these bundles of love are as we share our family secrets. \n 
URL:https://north42degrees.com/event/pierogi-making-workshop/
LOCATION:North 42 Degrees\, 130 County Road 50 E\, Colchester\, Ontario\, N0R 1G0\, Canada
CATEGORIES:Events
ATTACH;FMTTYPE=image/png:https://north42degrees.com/wp-content/uploads/2025/02/Pierogi-making-16-9.png
END:VEVENT
BEGIN:VEVENT
DTSTART;TZID=America/Toronto:20250330T130000
DTEND;TZID=America/Toronto:20250330T150000
DTSTAMP:20260420T070907
CREATED:20250224T022001Z
LAST-MODIFIED:20250405T201531Z
UID:10000145-1743339600-1743346800@north42degrees.com
SUMMARY:Learn to Paper Quill - Spring Egg with Ann Ducharme
DESCRIPTION:Ever been intrigued by how those paper quilled cards are made? Well\, join Ann Ducharme and learn to make a drop-dead gorgeous paper quilled egg to celebrate spring! We’ll supply everything you need\, and you will learn this unique art using rolled paper that originated during the Renaissance. This technique was first used for decorating religious items and is now popular worldwide. Join us for an afternoon of fun and unleash your creativity. \nAll supplies are included.  No experience is necessary. \nDate:  March 30th \nTime:  1-3 pm \nCost:  $55 + tax and includes a glass of wine
URL:https://north42degrees.com/event/144189/
LOCATION:North 42 Degrees\, 130 County Road 50 E\, Colchester\, Ontario\, N0R 1G0\, Canada
CATEGORIES:Events
ATTACH;FMTTYPE=image/png:https://north42degrees.com/wp-content/uploads/2025/02/Learn-to-quill-1.png
END:VEVENT
BEGIN:VEVENT
DTSTART;TZID=America/Toronto:20250330T140000
DTEND;TZID=America/Toronto:20250330T170000
DTSTAMP:20260420T070907
CREATED:20250131T205456Z
LAST-MODIFIED:20250131T205456Z
UID:10000055-1743343200-1743354000@north42degrees.com
SUMMARY:Board Game Sunday
DESCRIPTION:Join us for Board Game Sundays! A New event at North 42.\n\nSundays are the ultimate fundays at North 42 Degrees Estate Winery! Join us for an afternoon of good times at our Board Games Sunday! Grab your friends and swing by the winery on Sunday\, January 26th\, from 2-6 PM.\n\nWhether you’re a board game champion or just in it for the laughs\, this is your golden ticket to kick back\, sip on some award winning wines or local brews and munch on tasty bites while battling it out over your favorite games.\n\nWe’ll have a treasure trove of board games waiting for you\, or feel free to bring your own to share the fun!\n\n\n\n\n\nThe available board games so far are:\nTsuro\nSkipbo\nCode Names Duet\nCode Names\nJenga\nBananagrams\nScrabble\nUpwords\nClue\nCatan\nTicket to Ride\nMonopoly\nBackgammon\n\n\nOnce you’re set up and having fun be sure to ask what our recommended pairing is to match to mood of the game you’re playing.  Perhaps a Pinot noir to solve that murder or a sparkling as you clean up the Monopoly Board.  Here’s a link to the  to get you in the mood.  We also have an assortment of local craft beers and some fabulous coktails available for purchase adn Bistro 42 will be offering a select menu including charcuterie boards to munch on during game play.\n\nCheers to a fabulous Sunday! And we hope to see you soon!\n\n\nBoard Game Sunday
URL:https://north42degrees.com/event/board-game-sunday-3/2025-03-30/
LOCATION:North 42 Degrees\, 130 County Road 50 E\, Colchester\, Ontario\, N0R 1G0\, Canada
CATEGORIES:Events
ATTACH;FMTTYPE=image/jpeg:https://north42degrees.com/wp-content/uploads/2025/01/IMG_3243-scaled.jpg
END:VEVENT
END:VCALENDAR