BEGIN:VCALENDAR
VERSION:2.0
PRODID:-//North 42 Degrees - ECPv6.15.15//NONSGML v1.0//EN
CALSCALE:GREGORIAN
METHOD:PUBLISH
X-WR-CALNAME:North 42 Degrees
X-ORIGINAL-URL:https://north42degrees.com
X-WR-CALDESC:Events for North 42 Degrees
REFRESH-INTERVAL;VALUE=DURATION:PT1H
X-Robots-Tag:noindex
X-PUBLISHED-TTL:PT1H
BEGIN:VTIMEZONE
TZID:America/Toronto
BEGIN:DAYLIGHT
TZOFFSETFROM:-0500
TZOFFSETTO:-0400
TZNAME:EDT
DTSTART:20230312T070000
END:DAYLIGHT
BEGIN:STANDARD
TZOFFSETFROM:-0400
TZOFFSETTO:-0500
TZNAME:EST
DTSTART:20231105T060000
END:STANDARD
BEGIN:DAYLIGHT
TZOFFSETFROM:-0500
TZOFFSETTO:-0400
TZNAME:EDT
DTSTART:20240310T070000
END:DAYLIGHT
BEGIN:STANDARD
TZOFFSETFROM:-0400
TZOFFSETTO:-0500
TZNAME:EST
DTSTART:20241103T060000
END:STANDARD
BEGIN:DAYLIGHT
TZOFFSETFROM:-0500
TZOFFSETTO:-0400
TZNAME:EDT
DTSTART:20250309T070000
END:DAYLIGHT
BEGIN:STANDARD
TZOFFSETFROM:-0400
TZOFFSETTO:-0500
TZNAME:EST
DTSTART:20251102T060000
END:STANDARD
END:VTIMEZONE
BEGIN:VEVENT
DTSTART;TZID=America/Toronto:20240206T183000
DTEND;TZID=America/Toronto:20240206T213000
DTSTAMP:20260419T234234
CREATED:20240103T182020Z
LAST-MODIFIED:20240103T192631Z
UID:10000023-1707244200-1707255000@north42degrees.com
SUMMARY:Pączki Making Workshop
DESCRIPTION:Someone is soooo exicted to be sharing her love of Pączki!!! Fat Tuesday or for our Polish friends Tłusty Czwartek is just around the corner.\n\n\n \n\n\nCome discover your passion\, expand your creativity and understanding of the art of Pączki making. You’ll gain practical knowledge as well as hands-on experience making the perfect dough\, the secrets forming the donuts\, and all about fillings.\n\n\nPączki are donuts that were originally developed hundreds of years ago in Poland to use up all the rich ingredients that were considered off-limits during the fasting period of Lent: namely butter\, sugar\, oil and milk.\n\n\n \n\n\nIn this interactive class you’ll learn to make traditional Pączki using Suzanne’s family recipe that has been passed on for 4 generations. You’ll learn to knead and roll the dough\, then try your hand at shaping the Pączki freeform and of course you’ll get to fill them. We’ll show you how to make some traditional fillings like custardand prune. You’ll also be able to choose from raspberry and black current jam. And the final step\, those donuts with be powdered with icing sugar or a sugar glaze. But really why choose?\n\n\n \n\n\nOooh and Martin\, our owner\, has an added surprise\, you’ll go home with not only 6 Pączki but something practical so that you can continue your journey in Pączki making.\n\n\n \n\n\nSo join us and create your own Pączki in this unique hands-on experience and your Pączki will be ready at the end of class!\n\n\n \n\n\nCost is $65 per person tax and fee. Spots are linited! So book today.\n\n\nThe perfect pairing for the evening?  It depends on your filling but our favourite is our Sparkling Riesling\n\n\n\n\n 
URL:https://north42degrees.com/event/paczki-making-workshop/
LOCATION:North 42 Degrees\, 130 County Road 50 E\, Colchester\, Ontario\, N0R 1G0\, Canada
CATEGORIES:Events
END:VEVENT
END:VCALENDAR