BEGIN:VCALENDAR
VERSION:2.0
PRODID:-//North 42 Degrees - ECPv6.15.15//NONSGML v1.0//EN
CALSCALE:GREGORIAN
METHOD:PUBLISH
X-ORIGINAL-URL:https://north42degrees.com
X-WR-CALDESC:Events for North 42 Degrees
REFRESH-INTERVAL;VALUE=DURATION:PT1H
X-Robots-Tag:noindex
X-PUBLISHED-TTL:PT1H
BEGIN:VTIMEZONE
TZID:America/Toronto
BEGIN:DAYLIGHT
TZOFFSETFROM:-0500
TZOFFSETTO:-0400
TZNAME:EDT
DTSTART:20230312T070000
END:DAYLIGHT
BEGIN:STANDARD
TZOFFSETFROM:-0400
TZOFFSETTO:-0500
TZNAME:EST
DTSTART:20231105T060000
END:STANDARD
BEGIN:DAYLIGHT
TZOFFSETFROM:-0500
TZOFFSETTO:-0400
TZNAME:EDT
DTSTART:20240310T070000
END:DAYLIGHT
BEGIN:STANDARD
TZOFFSETFROM:-0400
TZOFFSETTO:-0500
TZNAME:EST
DTSTART:20241103T060000
END:STANDARD
BEGIN:DAYLIGHT
TZOFFSETFROM:-0500
TZOFFSETTO:-0400
TZNAME:EDT
DTSTART:20250309T070000
END:DAYLIGHT
BEGIN:STANDARD
TZOFFSETFROM:-0400
TZOFFSETTO:-0500
TZNAME:EST
DTSTART:20251102T060000
END:STANDARD
END:VTIMEZONE
BEGIN:VEVENT
DTSTART;TZID=America/Toronto:20240117T183000
DTEND;TZID=America/Toronto:20240117T213000
DTSTAMP:20260420T213857
CREATED:20240103T194905Z
LAST-MODIFIED:20240103T194905Z
UID:10000025-1705516200-1705527000@north42degrees.com
SUMMARY:Pizza Making Workshop
DESCRIPTION:Pizza making workshop\nWe’re kicking off the New Year with a Pizza Making class! Just in time for the BIG GAME….. \nDiscover your passion\, expand your creativity and understanding of the art of pizza making. You’ll gain practical knowledge as well as hands-on experience making the perfect dough\, the secrets of the sauce\, stretching techniques for forming the perfect crust\, and all about ingredients. \nIn this interactive class you’ll pick your own fresh herbs\, mix\, knead and roll 2 types of dough. Gluten free? we’ve got you covered. You’ll be making both regular and gluten free dough. Then covering it with Chef Ken’s own delicious is pizza sauce recipe and your choice of toppings. \nOooh and Martin\, our owner\, has an added surprise\, you’ll go home with a custom rolling pin and some freshly grown herbs from our gardens and greenhouse. \nSo join us and create your own pizza in this unique hands on experience and your pizzas will be ready at the end of class! \nOnly 7 tickets left. So grab yours today! \nOur suggested pairing for when you enjoy your pizza – the Meritage.  Check the wines available at North 42 here. \nNeed dinner grab a charcuterie board from Bistro 42 for snacking or dinner. Reserve your board in advance by calling us at 519-738-6111. \n  \nChef’s secret sauce\nKneading dough
URL:https://north42degrees.com/event/pizza-making-workshop/
LOCATION:Ontario
CATEGORIES:Events
END:VEVENT
BEGIN:VEVENT
DTSTART;TZID=America/Toronto:20240123T183000
DTEND;TZID=America/Toronto:20240123T213000
DTSTAMP:20260420T213857
CREATED:20240103T192022Z
LAST-MODIFIED:20240103T192258Z
UID:10000024-1706034600-1706045400@north42degrees.com
SUMMARY:Be My Valentine Cookie Decorating Class
DESCRIPTION:Sweet Love! \nThis popular  Cookie Decorating Class is back just in time for Valentine’s day! \nIn this class you’ll learn to decorate cookies like a pro\, with our own Bistro 42 pastry chef\, Lauren. You’ll gain practical knowledge as well as hands-on experience making Royal icing\, how to outline and flood cookies and learn some pretty piping patterns\, designs and other techniques to make your Valentine’s day cookies shine with love! \nEach guest will be provided 12 cookies\, icing\, piping bags\, tips and other decorations as well as our Chef’s sugar cookie recipe. \nJoin us on January 23rd at 6:30 pm for this unique hands on experience and impress your loved ones this Valentine’s day! \nEach class is $65 per person plus HST and fees. \nBuy your tickets Here \nAdd a bottle of your favourite North 42 wine to share with your loved one and those soon to be sensational cookies!  Our recommendation the Semi Sweet Riesling \n  \n 
URL:https://north42degrees.com/event/be-my-valentine-cookie-decorating-class/
LOCATION:North 42 Degrees\, 130 County Road 50 E\, Colchester\, Ontario\, N0R 1G0\, Canada
CATEGORIES:Events
ATTACH;FMTTYPE=image/png:https://north42degrees.com/wp-content/uploads/2024/01/heart-cookies.png
END:VEVENT
END:VCALENDAR